BEGIN:VCALENDAR
VERSION:2.0
PRODID:-//217.160.0.23//NONSGML kigkonsult.se iCalcreator 2.20//
CALSCALE:GREGORIAN
METHOD:PUBLISH
X-WR-TIMEZONE:UTC
BEGIN:VEVENT
UID:event43@Förderverein Stadtbibliothek Rottenburg
DTSTAMP:20260422T065725Z
CATEGORIES:allgemeine Veranstaltung
DESCRIPTION:Fotoausstellung Alles immer von Jan von Holleben \nKategorie: a
 llgemeine Veranstaltung\nICS-Link: https://foerderverein-stadtbibliothek-r
 ottenburg.de/index.php?option=com_jem&view=event&id=43:fotoausstellung-all
 es-immer-von-jan-von-holleben\n
DTSTART:20190408T000000Z
DTEND:20190408T000000Z
LOCATION:Stadtbibliothek 2. Stock\,Königstraße 2\,72108 Rottenburg\,Germany
SUMMARY:Fotoausstellung Alles immer von Jan von Holleben 
URL:https://foerderverein-stadtbibliothek-rottenburg.de/index.php?option=co
 m_jem&view=event&id=43:fotoausstellung-alles-immer-von-jan-von-holleben
END:VEVENT
BEGIN:VEVENT
UID:event38@Förderverein Stadtbibliothek Rottenburg
DTSTAMP:20260422T065725Z
CATEGORIES:allgemeine Veranstaltung
DESCRIPTION:Digitale Stadtbibliothek - Offene Sprechstunde für Ihre Fragen 
 zu Onleihe\, Streaming\, Zeitungen und Digitale Angebote\nKategorie: allge
 meine Veranstaltung\nICS-Link: https://foerderverein-stadtbibliothek-rotte
 nburg.de/index.php?option=com_jem&view=event&id=38:digitale-stadtbibliothe
 k-offene-sprechstunde-fuer-ihre-fragen-zu-onleihe-streaming-zeitungen-und-
 digitale-angebote\n
DTSTART:20190423T140000Z
DTEND:20190423T160000Z
LOCATION:Stadtbibliothek 2. Stock\, Seminarraum\,Königstraße 2\,72108 Rotte
 nburg
SUMMARY:Digitale Stadtbibliothek - Offene Sprechstunde für Ihre Fragen zu O
 nleihe\, Streaming\, Zeitungen und Digitale Angebote
URL:https://foerderverein-stadtbibliothek-rottenburg.de/index.php?option=co
 m_jem&view=event&id=38:digitale-stadtbibliothek-offene-sprechstunde-fuer-i
 hre-fragen-zu-onleihe-streaming-zeitungen-und-digitale-angebote
END:VEVENT
BEGIN:VEVENT
UID:event28@Förderverein Stadtbibliothek Rottenburg
DTSTAMP:20260422T065725Z
CATEGORIES:allgemeine Veranstaltung
DESCRIPTION:ABGESAGT: Gaming-Treff - Zocken bis die Finger qualmen!\nKatego
 rie: allgemeine Veranstaltung\nICS-Link: https://foerderverein-stadtbiblio
 thek-rottenburg.de/index.php?option=com_jem&view=event&id=28\n
DTSTART:20190426T143000Z
DTEND:20190426T160000Z
LOCATION:Stadtbibliothek 2. Stock\,Königstraße 2\,72108 Rottenburg\,Germany
SUMMARY:ABGESAGT: Gaming-Treff - Zocken bis die Finger qualmen!
URL:https://foerderverein-stadtbibliothek-rottenburg.de/index.php?option=co
 m_jem&view=event&id=28
END:VEVENT
BEGIN:VEVENT
UID:event65@Förderverein Stadtbibliothek Rottenburg
DTSTAMP:20260422T065725Z
CATEGORIES:allgemeine Veranstaltung
DESCRIPTION:Digitale Stadtbibliothek - Offene Sprechstunde für Ihre Fragen 
 zu Onleihe\, Streaming\, Zeitungen und Digitale Angebote\nKategorie: allge
 meine Veranstaltung\nICS-Link: https://foerderverein-stadtbibliothek-rotte
 nburg.de/index.php?option=com_jem&view=event&id=65:digitale-stadtbibliothe
 k-offene-sprechstunde-fuer-ihre-fragen-zu-onleihe-streaming-zeitungen-und-
 digitale-angebote\n
DTSTART:20190430T140000Z
DTEND:20190430T160000Z
LOCATION:Stadtbibliothek 2. Stock\, Seminarraum\,Königstraße 2\,72108 Rotte
 nburg
SUMMARY:Digitale Stadtbibliothek - Offene Sprechstunde für Ihre Fragen zu O
 nleihe\, Streaming\, Zeitungen und Digitale Angebote
URL:https://foerderverein-stadtbibliothek-rottenburg.de/index.php?option=co
 m_jem&view=event&id=65:digitale-stadtbibliothek-offene-sprechstunde-fuer-i
 hre-fragen-zu-onleihe-streaming-zeitungen-und-digitale-angebote
END:VEVENT
BEGIN:VEVENT
UID:event29@Förderverein Stadtbibliothek Rottenburg
DTSTAMP:20260422T065725Z
CATEGORIES:allgemeine Veranstaltung
DESCRIPTION:ABGESAGT: Gaming-Treff - Zocken bis die Finger qualmen!\nKatego
 rie: allgemeine Veranstaltung\nICS-Link: https://foerderverein-stadtbiblio
 thek-rottenburg.de/index.php?option=com_jem&view=event&id=29\n
DTSTART:20190503T143000Z
DTEND:20190503T160000Z
LOCATION:Stadtbibliothek 2. Stock\,Königstraße 2\,72108 Rottenburg\,Germany
SUMMARY:ABGESAGT: Gaming-Treff - Zocken bis die Finger qualmen!
URL:https://foerderverein-stadtbibliothek-rottenburg.de/index.php?option=co
 m_jem&view=event&id=29
END:VEVENT
BEGIN:VEVENT
UID:event44@Förderverein Stadtbibliothek Rottenburg
DTSTAMP:20260422T065725Z
CATEGORIES:allgemeine Veranstaltung
DESCRIPTION:Autormat\nKategorie: allgemeine Veranstaltung\nICS-Link: https:
 //foerderverein-stadtbibliothek-rottenburg.de/index.php?option=com_jem&vie
 w=event&id=44:autormat\n
DTSTART:20190504T180000Z
DTEND:20190504T193000Z
LOCATION:Stadtbibliothek 1. Stock\,Königstraße 2\,72108 Rottenburg
SUMMARY:Autormat
URL:https://foerderverein-stadtbibliothek-rottenburg.de/index.php?option=co
 m_jem&view=event&id=44:autormat
END:VEVENT
BEGIN:VEVENT
UID:event45@Förderverein Stadtbibliothek Rottenburg
DTSTAMP:20260422T065725Z
CATEGORIES:allgemeine Veranstaltung
DESCRIPTION:Poetry Slam\nKategorie: allgemeine Veranstaltung\nICS-Link: htt
 ps://foerderverein-stadtbibliothek-rottenburg.de/index.php?option=com_jem&
 view=event&id=45:poetry-slam\n
DTSTART:20190504T183000Z
DTEND:20190504T220000Z
LOCATION:Stadtbibliothek 2. Stock\,Königstraße 2\,72108 Rottenburg\,Germany
SUMMARY:Poetry Slam
URL:https://foerderverein-stadtbibliothek-rottenburg.de/index.php?option=co
 m_jem&view=event&id=45:poetry-slam
END:VEVENT
BEGIN:VEVENT
UID:event46@Förderverein Stadtbibliothek Rottenburg
DTSTAMP:20260422T065725Z
CATEGORIES:allgemeine Veranstaltung
DESCRIPTION:Improtheather Kanonenfutter\nKategorie: allgemeine Veranstaltun
 g\nICS-Link: https://foerderverein-stadtbibliothek-rottenburg.de/index.php
 ?option=com_jem&view=event&id=46:improtheather-kanonenfutter\n
DTSTART:20190504T190000Z
DTEND:20190504T213000Z
LOCATION:Stadtbibliothek\, 4. Stock\,Königstraße 2\,72108 Rottenburg\,Germa
 ny
SUMMARY:Improtheather Kanonenfutter
URL:https://foerderverein-stadtbibliothek-rottenburg.de/index.php?option=co
 m_jem&view=event&id=46:improtheather-kanonenfutter
END:VEVENT
BEGIN:VEVENT
UID:event53@Förderverein Stadtbibliothek Rottenburg
DTSTAMP:20260422T065725Z
CATEGORIES:allgemeine Veranstaltung
DESCRIPTION:Gedanken zur Nacht\nKategorie: allgemeine Veranstaltung\nICS-Li
 nk: https://foerderverein-stadtbibliothek-rottenburg.de/index.php?option=c
 om_jem&view=event&id=53:gedanken-zur-nacht\n
DTSTART:20190504T223000Z
DTEND:20190504T233000Z
LOCATION:Stadtbibliothek\, 4. Stock\,Königstraße 2\,72108 Rottenburg\,Germa
 ny
SUMMARY:Gedanken zur Nacht
URL:https://foerderverein-stadtbibliothek-rottenburg.de/index.php?option=co
 m_jem&view=event&id=53:gedanken-zur-nacht
END:VEVENT
END:VCALENDAR
