BEGIN:VCALENDAR
VERSION:2.0
PRODID:-//217.160.0.23//NONSGML kigkonsult.se iCalcreator 2.20//
CALSCALE:GREGORIAN
METHOD:PUBLISH
X-WR-TIMEZONE:UTC
BEGIN:VEVENT
UID:event1003@Förderverein Stadtbibliothek Rottenburg
DTSTAMP:20260422T161115Z
CATEGORIES:allgemeine Veranstaltung
DESCRIPTION:Ausstellung Lost Places\nKategorie: allgemeine Veranstaltung\nI
 CS-Link: https://foerderverein-stadtbibliothek-rottenburg.de/index.php?opt
 ion=com_jem&view=event&id=1003\n
DTSTART:20230606T000000Z
DTEND:20230606T000000Z
LOCATION:Café Stadtgespräch\,Königstraße 2\,72108 Rottenburg
SUMMARY:Ausstellung Lost Places
URL:https://foerderverein-stadtbibliothek-rottenburg.de/index.php?option=co
 m_jem&view=event&id=1003
END:VEVENT
END:VCALENDAR
