BEGIN:VCALENDAR
VERSION:2.0
PRODID:-//217.160.0.23//NONSGML kigkonsult.se iCalcreator 2.20//
CALSCALE:GREGORIAN
METHOD:PUBLISH
X-WR-TIMEZONE:UTC
BEGIN:VEVENT
UID:event1028@Förderverein Stadtbibliothek Rottenburg
DTSTAMP:20260424T143755Z
CATEGORIES:allgemeine Veranstaltung
DESCRIPTION:Info-VA TechnoThek\nKategorie: allgemeine Veranstaltung\nICS-Li
 nk: https://foerderverein-stadtbibliothek-rottenburg.de/index.php?option=c
 om_jem&view=event&id=1028\n
DTSTART:20230914T170000Z
DTEND:20230914T170000Z
LOCATION:Café Stadtgespräch\,Königstraße 2\,72108 Rottenburg
SUMMARY:Info-VA TechnoThek
URL:https://foerderverein-stadtbibliothek-rottenburg.de/index.php?option=co
 m_jem&view=event&id=1028
END:VEVENT
END:VCALENDAR
