BEGIN:VCALENDAR
VERSION:2.0
PRODID:-//217.160.0.23//NONSGML kigkonsult.se iCalcreator 2.20//
CALSCALE:GREGORIAN
METHOD:PUBLISH
X-WR-TIMEZONE:UTC
BEGIN:VEVENT
UID:event1030@Förderverein Stadtbibliothek Rottenburg
DTSTAMP:20260424T143845Z
CATEGORIES:allgemeine Veranstaltung
DESCRIPTION:Mangaday\nKategorie: allgemeine Veranstaltung\nICS-Link: https:
 //foerderverein-stadtbibliothek-rottenburg.de/index.php?option=com_jem&vie
 w=event&id=1030\n
DTSTART:20230916T100000Z
DTEND:20230916T100000Z
LOCATION:Café Stadtgespräch\,Königstraße 2\,72108 Rottenburg
SUMMARY:Mangaday
URL:https://foerderverein-stadtbibliothek-rottenburg.de/index.php?option=co
 m_jem&view=event&id=1030
END:VEVENT
END:VCALENDAR
