BEGIN:VCALENDAR
VERSION:2.0
PRODID:-//217.160.0.23//NONSGML kigkonsult.se iCalcreator 2.20//
CALSCALE:GREGORIAN
METHOD:PUBLISH
X-WR-TIMEZONE:UTC
BEGIN:VEVENT
UID:event1154@Förderverein Stadtbibliothek Rottenburg
DTSTAMP:20260424T225539Z
CATEGORIES:allgemeine Veranstaltung
DESCRIPTION:Stadtlesen\nKategorie: allgemeine Veranstaltung\nICS-Link: http
 s://foerderverein-stadtbibliothek-rottenburg.de/index.php?option=com_jem&v
 iew=event&id=1154\n
DTSTART:20240808T000000Z
DTEND:20240808T000000Z
LOCATION:Café Stadtgespräch\,Königstraße 2\,72108 Rottenburg
SUMMARY:Stadtlesen
URL:https://foerderverein-stadtbibliothek-rottenburg.de/index.php?option=co
 m_jem&view=event&id=1154
END:VEVENT
END:VCALENDAR
