BEGIN:VCALENDAR
VERSION:2.0
PRODID:-//217.160.0.23//NONSGML kigkonsult.se iCalcreator 2.20//
CALSCALE:GREGORIAN
METHOD:PUBLISH
X-WR-TIMEZONE:UTC
BEGIN:VEVENT
UID:event1195@Förderverein Stadtbibliothek Rottenburg
DTSTAMP:20260424T175352Z
CATEGORIES:allgemeine Veranstaltung
DESCRIPTION:Happy Halloween!\nKategorie: allgemeine Veranstaltung\nICS-Link
 : https://foerderverein-stadtbibliothek-rottenburg.de/index.php?option=com
 _jem&view=event&id=1195\n
DTSTART:20241031T100000Z
DTEND:20241031T100000Z
LOCATION:Café Stadtgespräch\,Königstraße 2\,72108 Rottenburg
SUMMARY:Happy Halloween!
URL:https://foerderverein-stadtbibliothek-rottenburg.de/index.php?option=co
 m_jem&view=event&id=1195
END:VEVENT
END:VCALENDAR
