BEGIN:VCALENDAR
VERSION:2.0
PRODID:-//217.160.0.23//NONSGML kigkonsult.se iCalcreator 2.20//
CALSCALE:GREGORIAN
METHOD:PUBLISH
X-WR-TIMEZONE:UTC
BEGIN:VEVENT
UID:event1235@Förderverein Stadtbibliothek Rottenburg
DTSTAMP:20260422T121129Z
CATEGORIES:allgemeine Veranstaltung
DESCRIPTION:Der Chor\nKategorie: allgemeine Veranstaltung\nICS-Link: https:
 //foerderverein-stadtbibliothek-rottenburg.de/index.php?option=com_jem&vie
 w=event&id=1235\n
DTSTART:20260129T193000Z
DTEND:20260129T193000Z
LOCATION:Café Stadtgespräch\,Königstraße 2\,72108 Rottenburg
SUMMARY:Der Chor
URL:https://foerderverein-stadtbibliothek-rottenburg.de/index.php?option=co
 m_jem&view=event&id=1235
END:VEVENT
END:VCALENDAR
