BEGIN:VCALENDAR
VERSION:2.0
PRODID:-//217.160.0.23//NONSGML kigkonsult.se iCalcreator 2.20//
CALSCALE:GREGORIAN
METHOD:PUBLISH
X-WR-TIMEZONE:UTC
BEGIN:VEVENT
UID:event1262@Förderverein Stadtbibliothek Rottenburg
DTSTAMP:20260422T175315Z
CATEGORIES:allgemeine Veranstaltung
DESCRIPTION:Blutrausch - Der Fall Erwin Hagedorn\nKategorie: allgemeine Ver
 anstaltung\nICS-Link: https://foerderverein-stadtbibliothek-rottenburg.de/
 index.php?option=com_jem&view=event&id=1262\n
DTSTART:20251024T180000Z
DTEND:20251024T180000Z
LOCATION:Café Stadtgespräch\,Königstraße 2\,72108 Rottenburg
SUMMARY:Blutrausch - Der Fall Erwin Hagedorn
URL:https://foerderverein-stadtbibliothek-rottenburg.de/index.php?option=co
 m_jem&view=event&id=1262
END:VEVENT
END:VCALENDAR
