BEGIN:VCALENDAR
VERSION:2.0
PRODID:-//217.160.0.23//NONSGML kigkonsult.se iCalcreator 2.20//
CALSCALE:GREGORIAN
METHOD:PUBLISH
X-WR-TIMEZONE:UTC
BEGIN:VEVENT
UID:event1264@Förderverein Stadtbibliothek Rottenburg
DTSTAMP:20260422T225848Z
CATEGORIES:allgemeine Veranstaltung
DESCRIPTION:Führung durch die Ausstellung Farbenspiel mit dem Künstler Ingo
  Riemenschneider\nKategorie: allgemeine Veranstaltung\nICS-Link: https://f
 oerderverein-stadtbibliothek-rottenburg.de/index.php?option=com_jem&view=e
 vent&id=1264\n
DTSTART:20250819T170000Z
DTEND:20250819T170000Z
LOCATION:Café Stadtgespräch\,Königstraße 2\,72108 Rottenburg
SUMMARY:Führung durch die Ausstellung Farbenspiel mit dem Künstler Ingo Rie
 menschneider
URL:https://foerderverein-stadtbibliothek-rottenburg.de/index.php?option=co
 m_jem&view=event&id=1264
END:VEVENT
END:VCALENDAR
