BEGIN:VCALENDAR
VERSION:2.0
PRODID:-//217.160.0.23//NONSGML kigkonsult.se iCalcreator 2.20//
CALSCALE:GREGORIAN
METHOD:PUBLISH
X-WR-TIMEZONE:UTC
BEGIN:VEVENT
UID:event1277@Förderverein Stadtbibliothek Rottenburg
DTSTAMP:20260422T172144Z
CATEGORIES:allgemeine Veranstaltung
DESCRIPTION:Herr Fuchs mag Po-esie!\nKategorie: allgemeine Veranstaltung\nI
 CS-Link: https://foerderverein-stadtbibliothek-rottenburg.de/index.php?opt
 ion=com_jem&view=event&id=1277\n
DTSTART:20251029T140000Z
DTEND:20251029T140000Z
LOCATION:Café Stadtgespräch\,Königstraße 2\,72108 Rottenburg
SUMMARY:Herr Fuchs mag Po-esie!
URL:https://foerderverein-stadtbibliothek-rottenburg.de/index.php?option=co
 m_jem&view=event&id=1277
END:VEVENT
END:VCALENDAR
