BEGIN:VCALENDAR
VERSION:2.0
PRODID:-//217.160.0.23//NONSGML kigkonsult.se iCalcreator 2.20//
CALSCALE:GREGORIAN
METHOD:PUBLISH
X-WR-TIMEZONE:UTC
BEGIN:VEVENT
UID:event1279@Förderverein Stadtbibliothek Rottenburg
DTSTAMP:20260422T154033Z
CATEGORIES:allgemeine Veranstaltung
DESCRIPTION:Tüftel-Nachmittag\nKategorie: allgemeine Veranstaltung\nICS-Lin
 k: https://foerderverein-stadtbibliothek-rottenburg.de/index.php?option=co
 m_jem&view=event&id=1279\n
DTSTART:20251030T150000Z
DTEND:20251030T150000Z
LOCATION:Café Stadtgespräch\,Königstraße 2\,72108 Rottenburg
SUMMARY:Tüftel-Nachmittag
URL:https://foerderverein-stadtbibliothek-rottenburg.de/index.php?option=co
 m_jem&view=event&id=1279
END:VEVENT
END:VCALENDAR
