BEGIN:VCALENDAR
VERSION:2.0
PRODID:-//217.160.0.23//NONSGML kigkonsult.se iCalcreator 2.20//
CALSCALE:GREGORIAN
METHOD:PUBLISH
X-WR-TIMEZONE:UTC
BEGIN:VEVENT
UID:event1284@Förderverein Stadtbibliothek Rottenburg
DTSTAMP:20260422T175359Z
CATEGORIES:allgemeine Veranstaltung
DESCRIPTION:Bundesweiter Vorlesetag\nKategorie: allgemeine Veranstaltung\nI
 CS-Link: https://foerderverein-stadtbibliothek-rottenburg.de/index.php?opt
 ion=com_jem&view=event&id=1284\n
DTSTART:20251121T153000Z
DTEND:20251121T153000Z
LOCATION:Café Stadtgespräch\,Königstraße 2\,72108 Rottenburg
SUMMARY:Bundesweiter Vorlesetag
URL:https://foerderverein-stadtbibliothek-rottenburg.de/index.php?option=co
 m_jem&view=event&id=1284
END:VEVENT
END:VCALENDAR
