BEGIN:VCALENDAR
VERSION:2.0
PRODID:-//217.160.0.23//NONSGML kigkonsult.se iCalcreator 2.20//
CALSCALE:GREGORIAN
METHOD:PUBLISH
X-WR-TIMEZONE:UTC
BEGIN:VEVENT
UID:event1309@Förderverein Stadtbibliothek Rottenburg
DTSTAMP:20260422T102941Z
CATEGORIES:allgemeine Veranstaltung
DESCRIPTION:Krabbelkäfer\nKategorie: allgemeine Veranstaltung\nICS-Link: ht
 tps://foerderverein-stadtbibliothek-rottenburg.de/index.php?option=com_jem
 &view=event&id=1309\n
DTSTART:20260414T103000Z
DTEND:20260414T103000Z
LOCATION:Café Stadtgespräch\,Königstraße 2\,72108 Rottenburg
SUMMARY:Krabbelkäfer
URL:https://foerderverein-stadtbibliothek-rottenburg.de/index.php?option=co
 m_jem&view=event&id=1309
END:VEVENT
END:VCALENDAR
