BEGIN:VCALENDAR
VERSION:2.0
PRODID:-//217.160.0.23//NONSGML kigkonsult.se iCalcreator 2.20//
CALSCALE:GREGORIAN
METHOD:PUBLISH
X-WR-TIMEZONE:UTC
BEGIN:VEVENT
UID:event1342@Förderverein Stadtbibliothek Rottenburg
DTSTAMP:20260422T102906Z
CATEGORIES:allgemeine Veranstaltung
DESCRIPTION:Literarisch-musikalischer Abend: Ha wa\, mir! – zwischen Schwab
 en und Berlin\, mit Uta Scheirle und Kai Müller\nKategorie: allgemeine Ver
 anstaltung\nICS-Link: https://foerderverein-stadtbibliothek-rottenburg.de/
 index.php?option=com_jem&view=event&id=1342\n
DTSTART:20260425T193000Z
DTEND:20260425T193000Z
LOCATION:Café Stadtgespräch\,Königstraße 2\,72108 Rottenburg
SUMMARY:Literarisch-musikalischer Abend: Ha wa\, mir! – zwischen Schwaben u
 nd Berlin\, mit Uta Scheirle und Kai Müller
URL:https://foerderverein-stadtbibliothek-rottenburg.de/index.php?option=co
 m_jem&view=event&id=1342
END:VEVENT
END:VCALENDAR
