BEGIN:VCALENDAR
VERSION:2.0
PRODID:-//217.160.0.23//NONSGML kigkonsult.se iCalcreator 2.20//
CALSCALE:GREGORIAN
METHOD:PUBLISH
X-WR-TIMEZONE:UTC
BEGIN:VEVENT
UID:event1350@Förderverein Stadtbibliothek Rottenburg
DTSTAMP:20260422T121205Z
CATEGORIES:allgemeine Veranstaltung
DESCRIPTION:10 Jahre Fototreff Rottenburg\nKategorie: allgemeine Veranstalt
 ung\nICS-Link: https://foerderverein-stadtbibliothek-rottenburg.de/index.p
 hp?option=com_jem&view=event&id=1350\n
DTSTART:20260310T000000Z
DTEND:20260310T000000Z
LOCATION:Café Stadtgespräch\,Königstraße 2\,72108 Rottenburg
SUMMARY:10 Jahre Fototreff Rottenburg
URL:https://foerderverein-stadtbibliothek-rottenburg.de/index.php?option=co
 m_jem&view=event&id=1350
END:VEVENT
END:VCALENDAR
