BEGIN:VCALENDAR
VERSION:2.0
PRODID:-//217.160.0.23//NONSGML kigkonsult.se iCalcreator 2.20//
CALSCALE:GREGORIAN
METHOD:PUBLISH
X-WR-TIMEZONE:UTC
BEGIN:VEVENT
UID:event1354@Förderverein Stadtbibliothek Rottenburg
DTSTAMP:20260422T102946Z
CATEGORIES:allgemeine Veranstaltung
DESCRIPTION:Ein Freund\, ein guter Freund...\nKategorie: allgemeine Veranst
 altung\nICS-Link: https://foerderverein-stadtbibliothek-rottenburg.de/inde
 x.php?option=com_jem&view=event&id=1354\n
DTSTART:20260819T000000Z
DTEND:20260819T000000Z
LOCATION:Café Stadtgespräch\,Königstraße 2\,72108 Rottenburg
SUMMARY:Ein Freund\, ein guter Freund...
URL:https://foerderverein-stadtbibliothek-rottenburg.de/index.php?option=co
 m_jem&view=event&id=1354
END:VEVENT
END:VCALENDAR
