BEGIN:VCALENDAR
VERSION:2.0
PRODID:-//217.160.0.23//NONSGML kigkonsult.se iCalcreator 2.20//
CALSCALE:GREGORIAN
METHOD:PUBLISH
X-WR-TIMEZONE:UTC
BEGIN:VEVENT
UID:event201@Förderverein Stadtbibliothek Rottenburg
DTSTAMP:20260422T102721Z
CATEGORIES:allgemeine Veranstaltung
DESCRIPTION:Friedensklima - Medienausstellung im Rahmen der Friedensdekade 
 2019\nKategorie: allgemeine Veranstaltung\nICS-Link: https://foerderverein
 -stadtbibliothek-rottenburg.de/index.php?option=com_jem&view=event&id=201
 \n
DTSTART:20191109T000000Z
DTEND:20191109T000000Z
LOCATION:Café Stadtgespräch\,Königstraße 2\,72108 Rottenburg
SUMMARY:Friedensklima - Medienausstellung im Rahmen der Friedensdekade 2019
URL:https://foerderverein-stadtbibliothek-rottenburg.de/index.php?option=co
 m_jem&view=event&id=201
END:VEVENT
END:VCALENDAR
