BEGIN:VCALENDAR
VERSION:2.0
PRODID:-//217.160.0.23//NONSGML kigkonsult.se iCalcreator 2.20//
CALSCALE:GREGORIAN
METHOD:PUBLISH
X-WR-TIMEZONE:UTC
BEGIN:VEVENT
UID:event208@Förderverein Stadtbibliothek Rottenburg
DTSTAMP:20260422T091031Z
CATEGORIES:allgemeine Veranstaltung
DESCRIPTION:Blind BOOKing - lassen Sie sich überraschen!\nKategorie: allgem
 eine Veranstaltung\nICS-Link: https://foerderverein-stadtbibliothek-rotten
 burg.de/index.php?option=com_jem&view=event&id=208\n
DTSTART:20191206T000000Z
DTEND:20191206T000000Z
LOCATION:Café Stadtgespräch\,Königstraße 2\,72108 Rottenburg
SUMMARY:Blind BOOKing - lassen Sie sich überraschen!
URL:https://foerderverein-stadtbibliothek-rottenburg.de/index.php?option=co
 m_jem&view=event&id=208
END:VEVENT
END:VCALENDAR
