BEGIN:VCALENDAR
VERSION:2.0
PRODID:-//217.160.0.23//NONSGML kigkonsult.se iCalcreator 2.20//
CALSCALE:GREGORIAN
METHOD:PUBLISH
X-WR-TIMEZONE:UTC
BEGIN:VEVENT
UID:event213@Förderverein Stadtbibliothek Rottenburg
DTSTAMP:20260422T092823Z
CATEGORIES:allgemeine Veranstaltung
DESCRIPTION:Literaturcafé: Medikamente im Alter\nKategorie: allgemeine Vera
 nstaltung\nICS-Link: https://foerderverein-stadtbibliothek-rottenburg.de/i
 ndex.php?option=com_jem&view=event&id=213\n
DTSTART:20191121T160000Z
DTEND:20191121T180000Z
LOCATION:Café Stadtgespräch\,Königstraße 2\,72108 Rottenburg
SUMMARY:Literaturcafé: Medikamente im Alter
URL:https://foerderverein-stadtbibliothek-rottenburg.de/index.php?option=co
 m_jem&view=event&id=213
END:VEVENT
END:VCALENDAR
