BEGIN:VCALENDAR
VERSION:2.0
PRODID:-//217.160.0.23//NONSGML kigkonsult.se iCalcreator 2.20//
CALSCALE:GREGORIAN
METHOD:PUBLISH
X-WR-TIMEZONE:UTC
BEGIN:VEVENT
UID:event53@Förderverein Stadtbibliothek Rottenburg
DTSTAMP:20260422T090020Z
CATEGORIES:allgemeine Veranstaltung
DESCRIPTION:Gedanken zur Nacht\nKategorie: allgemeine Veranstaltung\nICS-Li
 nk: https://foerderverein-stadtbibliothek-rottenburg.de/index.php?option=c
 om_jem&view=event&id=53:gedanken-zur-nacht\n
DTSTART:20190504T223000Z
DTEND:20190504T233000Z
LOCATION:Stadtbibliothek\, 4. Stock\,Königstraße 2\,72108 Rottenburg
SUMMARY:Gedanken zur Nacht
URL:https://foerderverein-stadtbibliothek-rottenburg.de/index.php?option=co
 m_jem&view=event&id=53:gedanken-zur-nacht
END:VEVENT
END:VCALENDAR
