BEGIN:VCALENDAR
VERSION:2.0
PRODID:-//217.160.0.23//NONSGML kigkonsult.se iCalcreator 2.20//
CALSCALE:GREGORIAN
METHOD:PUBLISH
X-WR-TIMEZONE:UTC
BEGIN:VEVENT
UID:event613@Förderverein Stadtbibliothek Rottenburg
DTSTAMP:20260422T091513Z
CATEGORIES:allgemeine Veranstaltung
DESCRIPTION:Mama Muh fährt Schlitten\nKategorie: allgemeine Veranstaltung\n
 ICS-Link: https://foerderverein-stadtbibliothek-rottenburg.de/index.php?op
 tion=com_jem&view=event&id=613\n
DTSTART:20191215T160000Z
DTEND:20191215T160000Z
LOCATION:Café Stadtgespräch\,Königstraße 2\,72108 Rottenburg
SUMMARY:Mama Muh fährt Schlitten
URL:https://foerderverein-stadtbibliothek-rottenburg.de/index.php?option=co
 m_jem&view=event&id=613
END:VEVENT
END:VCALENDAR
