BEGIN:VCALENDAR
VERSION:2.0
PRODID:-//217.160.0.23//NONSGML kigkonsult.se iCalcreator 2.20//
CALSCALE:GREGORIAN
METHOD:PUBLISH
X-WR-TIMEZONE:UTC
BEGIN:VEVENT
UID:event623@Förderverein Stadtbibliothek Rottenburg
DTSTAMP:20260420T114418Z
CATEGORIES:allgemeine Veranstaltung
DESCRIPTION:Im Namen des Volkes\nKategorie: allgemeine Veranstaltung\nICS-L
 ink: https://foerderverein-stadtbibliothek-rottenburg.de/index.php?option=
 com_jem&view=event&id=623:im-namen-des-volkes\n
DTSTART;VALUE=DATE:20200115
DTEND;VALUE=DATE:20200116
LOCATION:Café Stadtgespräch\,Königstraße 2\,72108 Rottenburg
SUMMARY:Im Namen des Volkes
URL:https://foerderverein-stadtbibliothek-rottenburg.de/index.php?option=co
 m_jem&view=event&id=623:im-namen-des-volkes
END:VEVENT
END:VCALENDAR
