BEGIN:VCALENDAR
VERSION:2.0
PRODID:-//217.160.0.23//NONSGML kigkonsult.se iCalcreator 2.20//
CALSCALE:GREGORIAN
METHOD:PUBLISH
X-WR-TIMEZONE:UTC
BEGIN:VEVENT
UID:event690@Förderverein Stadtbibliothek Rottenburg
DTSTAMP:20260422T085105Z
CATEGORIES:allgemeine Veranstaltung
DESCRIPTION:eBooks - versuchs mal digital: abgesagt\nKategorie: allgemeine 
 Veranstaltung\nICS-Link: https://foerderverein-stadtbibliothek-rottenburg.
 de/index.php?option=com_jem&view=event&id=690\n
DTSTART:20200505T160000Z
DTEND:20200505T160000Z
LOCATION:Café Stadtgespräch\,Königstraße 2\,72108 Rottenburg
SUMMARY:eBooks - versuchs mal digital: abgesagt
URL:https://foerderverein-stadtbibliothek-rottenburg.de/index.php?option=co
 m_jem&view=event&id=690
END:VEVENT
END:VCALENDAR
