BEGIN:VCALENDAR
VERSION:2.0
PRODID:-//217.160.0.23//NONSGML kigkonsult.se iCalcreator 2.20//
CALSCALE:GREGORIAN
METHOD:PUBLISH
X-WR-TIMEZONE:UTC
BEGIN:VEVENT
UID:event699@Förderverein Stadtbibliothek Rottenburg
DTSTAMP:20260422T085020Z
CATEGORIES:allgemeine Veranstaltung
DESCRIPTION:ABGESAGT! 75 Jahre Kriegsende: Jahrhundertzeugen\nKategorie: al
 lgemeine Veranstaltung\nICS-Link: https://foerderverein-stadtbibliothek-ro
 ttenburg.de/index.php?option=com_jem&view=event&id=699\n
DTSTART:20200508T190000Z
DTEND:20200508T190000Z
LOCATION:Café Stadtgespräch\,Königstraße 2\,72108 Rottenburg
SUMMARY:ABGESAGT! 75 Jahre Kriegsende: Jahrhundertzeugen
URL:https://foerderverein-stadtbibliothek-rottenburg.de/index.php?option=co
 m_jem&view=event&id=699
END:VEVENT
END:VCALENDAR
