BEGIN:VCALENDAR
VERSION:2.0
PRODID:-//217.160.0.23//NONSGML kigkonsult.se iCalcreator 2.20//
CALSCALE:GREGORIAN
METHOD:PUBLISH
X-WR-TIMEZONE:UTC
BEGIN:VEVENT
UID:event740@Förderverein Stadtbibliothek Rottenburg
DTSTAMP:20260422T102721Z
CATEGORIES:allgemeine Veranstaltung
DESCRIPTION:Politischer Gesprächskreis: Autoindustrie und Mobilität - Zahle
 n\, Daten und Fakten aus Expertensicht\nKategorie: allgemeine Veranstaltun
 g\nICS-Link: https://foerderverein-stadtbibliothek-rottenburg.de/index.php
 ?option=com_jem&view=event&id=740\n
DTSTART:20200728T100000Z
DTEND:20200728T113000Z
LOCATION:Café Stadtgespräch\,Königstraße 2\,72108 Rottenburg
SUMMARY:Politischer Gesprächskreis: Autoindustrie und Mobilität - Zahlen\, 
 Daten und Fakten aus Expertensicht
URL:https://foerderverein-stadtbibliothek-rottenburg.de/index.php?option=co
 m_jem&view=event&id=740
END:VEVENT
END:VCALENDAR
