BEGIN:VCALENDAR
VERSION:2.0
PRODID:-//217.160.0.23//NONSGML kigkonsult.se iCalcreator 2.20//
CALSCALE:GREGORIAN
METHOD:PUBLISH
X-WR-TIMEZONE:UTC
BEGIN:VEVENT
UID:event755@Förderverein Stadtbibliothek Rottenburg
DTSTAMP:20260422T085050Z
CATEGORIES:allgemeine Veranstaltung
DESCRIPTION:Lesehasen-Treff mit Anne und Maren\nKategorie: allgemeine Veran
 staltung\nICS-Link: https://foerderverein-stadtbibliothek-rottenburg.de/in
 dex.php?option=com_jem&view=event&id=755\n
DTSTART:20200902T150000Z
DTEND:20200902T150000Z
LOCATION:Café Stadtgespräch\,Königstraße 2\,72108 Rottenburg
SUMMARY:Lesehasen-Treff mit Anne und Maren
URL:https://foerderverein-stadtbibliothek-rottenburg.de/index.php?option=co
 m_jem&view=event&id=755
END:VEVENT
END:VCALENDAR
