BEGIN:VCALENDAR
VERSION:2.0
PRODID:-//217.160.0.23//NONSGML kigkonsult.se iCalcreator 2.20//
CALSCALE:GREGORIAN
METHOD:PUBLISH
X-WR-TIMEZONE:UTC
BEGIN:VEVENT
UID:event760@Förderverein Stadtbibliothek Rottenburg
DTSTAMP:20260422T085045Z
CATEGORIES:allgemeine Veranstaltung
DESCRIPTION:Fair statt mehr - Faire Woche 2020 in der Stadtbibliothek\nKate
 gorie: allgemeine Veranstaltung\nICS-Link: https://foerderverein-stadtbibl
 iothek-rottenburg.de/index.php?option=com_jem&view=event&id=760\n
DTSTART:20200911T000000Z
DTEND:20200911T000000Z
LOCATION:Café Stadtgespräch\,Königstraße 2\,72108 Rottenburg
SUMMARY:Fair statt mehr - Faire Woche 2020 in der Stadtbibliothek
URL:https://foerderverein-stadtbibliothek-rottenburg.de/index.php?option=co
 m_jem&view=event&id=760
END:VEVENT
END:VCALENDAR
