BEGIN:VCALENDAR
VERSION:2.0
PRODID:-//217.160.0.23//NONSGML kigkonsult.se iCalcreator 2.20//
CALSCALE:GREGORIAN
METHOD:PUBLISH
X-WR-TIMEZONE:UTC
BEGIN:VEVENT
UID:event775@Förderverein Stadtbibliothek Rottenburg
DTSTAMP:20260422T085055Z
CATEGORIES:allgemeine Veranstaltung
DESCRIPTION:Bücherbienchen - Es rauscht in den Bäumen\, das muss der Herbst
  sein!\nKategorie: allgemeine Veranstaltung\nICS-Link: https://foerdervere
 in-stadtbibliothek-rottenburg.de/index.php?option=com_jem&view=event&id=77
 5\n
DTSTART:20201022T150000Z
DTEND:20201022T153000Z
LOCATION:Café Stadtgespräch\,Königstraße 2\,72108 Rottenburg
SUMMARY:Bücherbienchen - Es rauscht in den Bäumen\, das muss der Herbst sei
 n!
URL:https://foerderverein-stadtbibliothek-rottenburg.de/index.php?option=co
 m_jem&view=event&id=775
END:VEVENT
END:VCALENDAR
