BEGIN:VCALENDAR
VERSION:2.0
PRODID:-//217.160.0.23//NONSGML kigkonsult.se iCalcreator 2.20//
CALSCALE:GREGORIAN
METHOD:PUBLISH
X-WR-TIMEZONE:UTC
BEGIN:VEVENT
UID:event849@Förderverein Stadtbibliothek Rottenburg
DTSTAMP:20260422T133844Z
CATEGORIES:allgemeine Veranstaltung
DESCRIPTION:Wir haben die Wahl! – Bundestagswahl am 26. September 2021 -  A
 nalyse aktueller Trends und Entwicklungen im Wahlkampf\nKategorie: allgeme
 ine Veranstaltung\nICS-Link: https://foerderverein-stadtbibliothek-rottenb
 urg.de/index.php?option=com_jem&view=event&id=849\n
DTSTART:20210726T100000Z
DTEND:20210726T113000Z
LOCATION:Café Stadtgespräch\,Königstraße 2\,72108 Rottenburg
SUMMARY:Wir haben die Wahl! – Bundestagswahl am 26. September 2021 -  Analy
 se aktueller Trends und Entwicklungen im Wahlkampf
URL:https://foerderverein-stadtbibliothek-rottenburg.de/index.php?option=co
 m_jem&view=event&id=849
END:VEVENT
END:VCALENDAR
