BEGIN:VCALENDAR
VERSION:2.0
PRODID:-//217.160.0.23//NONSGML kigkonsult.se iCalcreator 2.20//
CALSCALE:GREGORIAN
METHOD:PUBLISH
X-WR-TIMEZONE:UTC
BEGIN:VEVENT
UID:event854@Förderverein Stadtbibliothek Rottenburg
DTSTAMP:20260422T133839Z
CATEGORIES:allgemeine Veranstaltung
DESCRIPTION:Deutsche Literatur und ihre jüdischen Dichterinnen und Dichter
 \nKategorie: allgemeine Veranstaltung\nICS-Link: https://foerderverein-sta
 dtbibliothek-rottenburg.de/index.php?option=com_jem&view=event&id=854\n
DTSTART:20211021T190000Z
DTEND:20211021T190000Z
LOCATION:Café Stadtgespräch\,Königstraße 2\,72108 Rottenburg
SUMMARY:Deutsche Literatur und ihre jüdischen Dichterinnen und Dichter
URL:https://foerderverein-stadtbibliothek-rottenburg.de/index.php?option=co
 m_jem&view=event&id=854
END:VEVENT
END:VCALENDAR
