BEGIN:VCALENDAR
VERSION:2.0
PRODID:-//217.160.0.23//NONSGML kigkonsult.se iCalcreator 2.20//
CALSCALE:GREGORIAN
METHOD:PUBLISH
X-WR-TIMEZONE:UTC
BEGIN:VEVENT
UID:event932@Förderverein Stadtbibliothek Rottenburg
DTSTAMP:20260422T091354Z
CATEGORIES:allgemeine Veranstaltung
DESCRIPTION:Politischer Gesprächskreis: Demokratie braucht politische Bildu
 ng!\nKategorie: allgemeine Veranstaltung\nICS-Link: https://foerderverein-
 stadtbibliothek-rottenburg.de/index.php?option=com_jem&view=event&id=932:p
 olitischer-gespraechskreis-demokratie-braucht-politische-bildung\n
DTSTART:20220425T100000Z
DTEND:20220425T113000Z
LOCATION:Café Stadtgespräch\,Königstraße 2\,72108 Rottenburg
SUMMARY:Politischer Gesprächskreis: Demokratie braucht politische Bildung!
URL:https://foerderverein-stadtbibliothek-rottenburg.de/index.php?option=co
 m_jem&view=event&id=932:politischer-gespraechskreis-demokratie-braucht-pol
 itische-bildung
END:VEVENT
END:VCALENDAR
