BEGIN:VCALENDAR
VERSION:2.0
PRODID:-//217.160.0.23//NONSGML kigkonsult.se iCalcreator 2.20//
CALSCALE:GREGORIAN
METHOD:PUBLISH
X-WR-TIMEZONE:UTC
BEGIN:VEVENT
UID:event983@Förderverein Stadtbibliothek Rottenburg
DTSTAMP:20260422T172153Z
CATEGORIES:allgemeine Veranstaltung
DESCRIPTION:Lesehasentreff\nKategorie: allgemeine Veranstaltung\nICS-Link: 
 https://foerderverein-stadtbibliothek-rottenburg.de/index.php?option=com_j
 em&view=event&id=983\n
DTSTART:20230301T150000Z
DTEND:20230301T150000Z
LOCATION:Café Stadtgespräch\,Königstraße 2\,72108 Rottenburg
SUMMARY:Lesehasentreff
URL:https://foerderverein-stadtbibliothek-rottenburg.de/index.php?option=co
 m_jem&view=event&id=983
END:VEVENT
END:VCALENDAR
