BEGIN:VCALENDAR
VERSION:2.0
PRODID:-//217.160.0.23//NONSGML kigkonsult.se iCalcreator 2.20//
CALSCALE:GREGORIAN
METHOD:PUBLISH
X-WR-TIMEZONE:UTC
BEGIN:VEVENT
UID:event993@Förderverein Stadtbibliothek Rottenburg
DTSTAMP:20260422T225847Z
CATEGORIES:allgemeine Veranstaltung
DESCRIPTION:Lesung Hardt\nKategorie: allgemeine Veranstaltung\nICS-Link: ht
 tps://foerderverein-stadtbibliothek-rottenburg.de/index.php?option=com_jem
 &view=event&id=993\n
DTSTART:20230504T193000Z
DTEND:20230504T193000Z
LOCATION:Café Stadtgespräch\,Königstraße 2\,72108 Rottenburg
SUMMARY:Lesung Hardt
URL:https://foerderverein-stadtbibliothek-rottenburg.de/index.php?option=co
 m_jem&view=event&id=993
END:VEVENT
END:VCALENDAR
