BEGIN:VCALENDAR
VERSION:2.0
PRODID:-//217.160.0.23//NONSGML kigkonsult.se iCalcreator 2.20//
CALSCALE:GREGORIAN
METHOD:PUBLISH
X-WR-TIMEZONE:UTC
BEGIN:VEVENT
UID:event995@Förderverein Stadtbibliothek Rottenburg
DTSTAMP:20260422T161111Z
CATEGORIES:allgemeine Veranstaltung
DESCRIPTION:Schullesung Leitzgen\nKategorie: allgemeine Veranstaltung\nICS-
 Link: https://foerderverein-stadtbibliothek-rottenburg.de/index.php?option
 =com_jem&view=event&id=995\n
DTSTART:20230621T103000Z
DTEND:20230621T103000Z
LOCATION:Café Stadtgespräch\,Königstraße 2\,72108 Rottenburg
SUMMARY:Schullesung Leitzgen
URL:https://foerderverein-stadtbibliothek-rottenburg.de/index.php?option=co
 m_jem&view=event&id=995
END:VEVENT
END:VCALENDAR
