BEGIN:VCALENDAR
VERSION:2.0
PRODID:-//217.160.0.23//NONSGML kigkonsult.se iCalcreator 2.20//
CALSCALE:GREGORIAN
METHOD:PUBLISH
X-WR-TIMEZONE:UTC
BEGIN:VEVENT
UID:event1023@Förderverein Stadtbibliothek Rottenburg
DTSTAMP:20260424T161611Z
CATEGORIES:allgemeine Veranstaltung
DESCRIPTION:Ausstellung Berger\nKategorie: allgemeine Veranstaltung\nICS-Li
 nk: https://foerderverein-stadtbibliothek-rottenburg.de/index.php?option=c
 om_jem&view=event&id=1023\n
DTSTART:20230711T000000Z
DTEND:20230711T000000Z
LOCATION:Café Stadtgespräch\,Königstraße 2\,72108 Rottenburg
SUMMARY:Ausstellung Berger
URL:https://foerderverein-stadtbibliothek-rottenburg.de/index.php?option=co
 m_jem&view=event&id=1023
END:VEVENT
END:VCALENDAR
