BEGIN:VCALENDAR
VERSION:2.0
PRODID:-//217.160.0.23//NONSGML kigkonsult.se iCalcreator 2.20//
CALSCALE:GREGORIAN
METHOD:PUBLISH
X-WR-TIMEZONE:UTC
BEGIN:VEVENT
UID:event1225@Förderverein Stadtbibliothek Rottenburg
DTSTAMP:20260422T230132Z
CATEGORIES:allgemeine Veranstaltung
DESCRIPTION:Stille und andere Nächte\nKategorie: allgemeine Veranstaltung\n
 ICS-Link: https://foerderverein-stadtbibliothek-rottenburg.de/index.php?op
 tion=com_jem&view=event&id=1225\n
DTSTART:20251205T193000Z
DTEND:20251205T193000Z
LOCATION:Café Stadtgespräch\,Königstraße 2\,72108 Rottenburg
SUMMARY:Stille und andere Nächte
URL:https://foerderverein-stadtbibliothek-rottenburg.de/index.php?option=co
 m_jem&view=event&id=1225
END:VEVENT
END:VCALENDAR
