BEGIN:VCALENDAR
VERSION:2.0
PRODID:-//217.160.0.23//NONSGML kigkonsult.se iCalcreator 2.20//
CALSCALE:GREGORIAN
METHOD:PUBLISH
X-WR-TIMEZONE:UTC
BEGIN:VEVENT
UID:event1234@Förderverein Stadtbibliothek Rottenburg
DTSTAMP:20260422T230126Z
CATEGORIES:allgemeine Veranstaltung
DESCRIPTION:Lesehasen\nKategorie: allgemeine Veranstaltung\nICS-Link: https
 ://foerderverein-stadtbibliothek-rottenburg.de/index.php?option=com_jem&vi
 ew=event&id=1234\n
DTSTART:20251203T150000Z
DTEND:20251203T150000Z
LOCATION:Café Stadtgespräch\,Königstraße 2\,72108 Rottenburg
SUMMARY:Lesehasen
URL:https://foerderverein-stadtbibliothek-rottenburg.de/index.php?option=co
 m_jem&view=event&id=1234
END:VEVENT
END:VCALENDAR
