BEGIN:VCALENDAR
VERSION:2.0
PRODID:-//217.160.0.23//NONSGML kigkonsult.se iCalcreator 2.20//
CALSCALE:GREGORIAN
METHOD:PUBLISH
X-WR-TIMEZONE:UTC
BEGIN:VEVENT
UID:event1255@Förderverein Stadtbibliothek Rottenburg
DTSTAMP:20260424T144404Z
CATEGORIES:allgemeine Veranstaltung
DESCRIPTION:Farbenspiel\nKategorie: allgemeine Veranstaltung\nICS-Link: htt
 ps://foerderverein-stadtbibliothek-rottenburg.de/index.php?option=com_jem&
 view=event&id=1255\n
DTSTART:20250717T000000Z
DTEND:20250717T000000Z
LOCATION:Stadtbibliothek 2. Stock\,Königstraße 2\,72108 Rottenburg
SUMMARY:Farbenspiel
URL:https://foerderverein-stadtbibliothek-rottenburg.de/index.php?option=co
 m_jem&view=event&id=1255
END:VEVENT
END:VCALENDAR
