BEGIN:VCALENDAR
VERSION:2.0
PRODID:-//217.160.0.23//NONSGML kigkonsult.se iCalcreator 2.20//
CALSCALE:GREGORIAN
METHOD:PUBLISH
X-WR-TIMEZONE:UTC
BEGIN:VEVENT
UID:event1269@Förderverein Stadtbibliothek Rottenburg
DTSTAMP:20260424T194705Z
CATEGORIES:allgemeine Veranstaltung
DESCRIPTION:Herr Krake räumt das Meer auf\nKategorie: allgemeine Veranstalt
 ung\nICS-Link: https://foerderverein-stadtbibliothek-rottenburg.de/index.p
 hp?option=com_jem&view=event&id=1269\n
DTSTART:20251023T104500Z
DTEND:20251023T104500Z
LOCATION:Café Stadtgespräch\,Königstraße 2\,72108 Rottenburg
SUMMARY:Herr Krake räumt das Meer auf
URL:https://foerderverein-stadtbibliothek-rottenburg.de/index.php?option=co
 m_jem&view=event&id=1269
END:VEVENT
END:VCALENDAR
