BEGIN:VCALENDAR
VERSION:2.0
PRODID:-//217.160.0.23//NONSGML kigkonsult.se iCalcreator 2.20//
CALSCALE:GREGORIAN
METHOD:PUBLISH
X-WR-TIMEZONE:UTC
BEGIN:VEVENT
UID:event1289@Förderverein Stadtbibliothek Rottenburg
DTSTAMP:20260422T204953Z
CATEGORIES:allgemeine Veranstaltung
DESCRIPTION:Tüftel-Samstag\nKategorie: allgemeine Veranstaltung\nICS-Link: 
 https://foerderverein-stadtbibliothek-rottenburg.de/index.php?option=com_j
 em&view=event&id=1289\n
DTSTART:20260110T103000Z
DTEND:20260110T103000Z
LOCATION:Café Stadtgespräch\,Königstraße 2\,72108 Rottenburg
SUMMARY:Tüftel-Samstag
URL:https://foerderverein-stadtbibliothek-rottenburg.de/index.php?option=co
 m_jem&view=event&id=1289
END:VEVENT
END:VCALENDAR
