BEGIN:VCALENDAR
VERSION:2.0
PRODID:-//217.160.0.23//NONSGML kigkonsult.se iCalcreator 2.20//
CALSCALE:GREGORIAN
METHOD:PUBLISH
X-WR-TIMEZONE:UTC
BEGIN:VEVENT
UID:event1298@Förderverein Stadtbibliothek Rottenburg
DTSTAMP:20260422T230133Z
CATEGORIES:allgemeine Veranstaltung
DESCRIPTION:Bücherbienchen\nKategorie: allgemeine Veranstaltung\nICS-Link: 
 https://foerderverein-stadtbibliothek-rottenburg.de/index.php?option=com_j
 em&view=event&id=1298\n
DTSTART:20260217T160000Z
DTEND:20260217T160000Z
LOCATION:Café Stadtgespräch\,Königstraße 2\,72108 Rottenburg
SUMMARY:Bücherbienchen
URL:https://foerderverein-stadtbibliothek-rottenburg.de/index.php?option=co
 m_jem&view=event&id=1298
END:VEVENT
END:VCALENDAR
