BEGIN:VCALENDAR
VERSION:2.0
PRODID:-//217.160.0.23//NONSGML kigkonsult.se iCalcreator 2.20//
CALSCALE:GREGORIAN
METHOD:PUBLISH
X-WR-TIMEZONE:UTC
BEGIN:VEVENT
UID:event1305@Förderverein Stadtbibliothek Rottenburg
DTSTAMP:20260422T114647Z
CATEGORIES:allgemeine Veranstaltung
DESCRIPTION:Autobilderbuchkino\nKategorie: allgemeine Veranstaltung\nICS-Li
 nk: https://foerderverein-stadtbibliothek-rottenburg.de/index.php?option=c
 om_jem&view=event&id=1305\n
DTSTART:20260318T160000Z
DTEND:20260318T160000Z
LOCATION:Café Stadtgespräch\,Königstraße 2\,72108 Rottenburg
SUMMARY:Autobilderbuchkino
URL:https://foerderverein-stadtbibliothek-rottenburg.de/index.php?option=co
 m_jem&view=event&id=1305
END:VEVENT
END:VCALENDAR
