BEGIN:VCALENDAR
VERSION:2.0
PRODID:-//217.160.0.23//NONSGML kigkonsult.se iCalcreator 2.20//
CALSCALE:GREGORIAN
METHOD:PUBLISH
X-WR-TIMEZONE:UTC
BEGIN:VEVENT
UID:event1338@Förderverein Stadtbibliothek Rottenburg
DTSTAMP:20260422T230133Z
CATEGORIES:allgemeine Veranstaltung
DESCRIPTION:Pub Quiz - Wahlen im Ländle\nKategorie: allgemeine Veranstaltun
 g\nICS-Link: https://foerderverein-stadtbibliothek-rottenburg.de/index.php
 ?option=com_jem&view=event&id=1338\n
DTSTART:20260130T190000Z
DTEND:20260130T210000Z
LOCATION:Café Stadtgespräch\,Königstraße 2\,72108 Rottenburg
SUMMARY:Pub Quiz - Wahlen im Ländle
URL:https://foerderverein-stadtbibliothek-rottenburg.de/index.php?option=co
 m_jem&view=event&id=1338
END:VEVENT
END:VCALENDAR
