BEGIN:VCALENDAR
VERSION:2.0
PRODID:-//217.160.0.23//NONSGML kigkonsult.se iCalcreator 2.20//
CALSCALE:GREGORIAN
METHOD:PUBLISH
X-WR-TIMEZONE:UTC
BEGIN:VEVENT
UID:event165@Förderverein Stadtbibliothek Rottenburg
DTSTAMP:20260422T130912Z
CATEGORIES:allgemeine Veranstaltung
DESCRIPTION:PC\, Notebook\, Tablet\, Smartphone oder eBook-Reader?\nKategor
 ie: allgemeine Veranstaltung\nICS-Link: https://foerderverein-stadtbibliot
 hek-rottenburg.de/index.php?option=com_jem&view=event&id=165\n
DTSTART:20190924T163000Z
DTEND:20190924T163000Z
LOCATION:Café Stadtgespräch\,Königstraße 2\,72108 Rottenburg
SUMMARY:PC\, Notebook\, Tablet\, Smartphone oder eBook-Reader?
URL:https://foerderverein-stadtbibliothek-rottenburg.de/index.php?option=co
 m_jem&view=event&id=165
END:VEVENT
END:VCALENDAR
