BEGIN:VCALENDAR
VERSION:2.0
PRODID:-//217.160.0.23//NONSGML kigkonsult.se iCalcreator 2.20//
CALSCALE:GREGORIAN
METHOD:PUBLISH
X-WR-TIMEZONE:UTC
BEGIN:VEVENT
UID:event888@Förderverein Stadtbibliothek Rottenburg
DTSTAMP:20260422T150726Z
CATEGORIES:allgemeine Veranstaltung
DESCRIPTION:Ist Genügsamkeit ein Beitrag zur  Rettung unseres Ökosystems?\n
 Kategorie: allgemeine Veranstaltung\nICS-Link: https://foerderverein-stadt
 bibliothek-rottenburg.de/index.php?option=com_jem&view=event&id=888\n
DTSTART:20211129T100000Z
DTEND:20211129T113000Z
LOCATION:Café Stadtgespräch\,Königstraße 2\,72108 Rottenburg
SUMMARY:Ist Genügsamkeit ein Beitrag zur  Rettung unseres Ökosystems?
URL:https://foerderverein-stadtbibliothek-rottenburg.de/index.php?option=co
 m_jem&view=event&id=888
END:VEVENT
END:VCALENDAR
