BEGIN:VCALENDAR
VERSION:2.0
PRODID:-//217.160.0.23//NONSGML kigkonsult.se iCalcreator 2.20//
CALSCALE:GREGORIAN
METHOD:PUBLISH
X-WR-TIMEZONE:UTC
BEGIN:VEVENT
UID:event909@Förderverein Stadtbibliothek Rottenburg
DTSTAMP:20260422T223832Z
CATEGORIES:allgemeine Veranstaltung
DESCRIPTION:Afghanistan-Debakel und Ukraine-Krise in einer sich verändernde
 n Weltordnung (Online-Veranstaltung)\nKategorie: allgemeine Veranstaltung
 \nICS-Link: https://foerderverein-stadtbibliothek-rottenburg.de/index.php?
 option=com_jem&view=event&id=909\n
DTSTART:20220221T100000Z
DTEND:20220221T113000Z
LOCATION:Café Stadtgespräch\,Königstraße 2\,72108 Rottenburg
SUMMARY:Afghanistan-Debakel und Ukraine-Krise in einer sich verändernden We
 ltordnung (Online-Veranstaltung)
URL:https://foerderverein-stadtbibliothek-rottenburg.de/index.php?option=co
 m_jem&view=event&id=909
END:VEVENT
END:VCALENDAR
