BEGIN:VCALENDAR
VERSION:2.0
PRODID:-//217.160.0.23//NONSGML kigkonsult.se iCalcreator 2.20//
CALSCALE:GREGORIAN
METHOD:PUBLISH
X-WR-TIMEZONE:UTC
BEGIN:VEVENT
UID:event998@Förderverein Stadtbibliothek Rottenburg
DTSTAMP:20260422T191522Z
CATEGORIES:allgemeine Veranstaltung
DESCRIPTION:Frauenleben gegen Diskriminierung\nKategorie: allgemeine Verans
 taltung\nICS-Link: https://foerderverein-stadtbibliothek-rottenburg.de/ind
 ex.php?option=com_jem&view=event&id=998:frauenleben-gegen-diskriminierung
 \n
DTSTART:20230303T183000Z
DTEND:20230303T200000Z
LOCATION:Café Stadtgespräch\,Königstraße 2\,72108 Rottenburg
SUMMARY:Frauenleben gegen Diskriminierung
URL:https://foerderverein-stadtbibliothek-rottenburg.de/index.php?option=co
 m_jem&view=event&id=998:frauenleben-gegen-diskriminierung
END:VEVENT
END:VCALENDAR
