BEGIN:VCALENDAR
VERSION:2.0
PRODID:-//217.160.0.23//NONSGML kigkonsult.se iCalcreator 2.20//
CALSCALE:GREGORIAN
METHOD:PUBLISH
X-WR-TIMEZONE:UTC
BEGIN:VEVENT
UID:event89@Förderverein Stadtbibliothek Rottenburg
DTSTAMP:20260422T080711Z
CATEGORIES:allgemeine Veranstaltung
DESCRIPTION:Wahlparty Grüne\nKategorie: allgemeine Veranstaltung\nICS-Link:
  https://foerderverein-stadtbibliothek-rottenburg.de/index.php?option=com_
 jem&view=event&id=89\n
DTSTART:20190527T183000Z
DTEND:20190527T183000Z
LOCATION:Café Stadtgespräch\,Königstraße 2\,72108 Rottenburg
SUMMARY:Wahlparty Grüne
URL:https://foerderverein-stadtbibliothek-rottenburg.de/index.php?option=co
 m_jem&view=event&id=89
END:VEVENT
BEGIN:VEVENT
UID:event93@Förderverein Stadtbibliothek Rottenburg
DTSTAMP:20260422T080711Z
CATEGORIES:allgemeine Veranstaltung
DESCRIPTION:Skatrunde\nKategorie: allgemeine Veranstaltung\nICS-Link: https
 ://foerderverein-stadtbibliothek-rottenburg.de/index.php?option=com_jem&vi
 ew=event&id=93\n
DTSTART:20190605T150000Z
DTEND:20190605T150000Z
LOCATION:Café Stadtgespräch\,Königstraße 2\,72108 Rottenburg
SUMMARY:Skatrunde
URL:https://foerderverein-stadtbibliothek-rottenburg.de/index.php?option=co
 m_jem&view=event&id=93
END:VEVENT
BEGIN:VEVENT
UID:event73@Förderverein Stadtbibliothek Rottenburg
DTSTAMP:20260422T080711Z
CATEGORIES:allgemeine Veranstaltung
DESCRIPTION:Lesehasen-Treff: Lieselotte macht Urlaub\nKategorie: allgemeine
  Veranstaltung\nICS-Link: https://foerderverein-stadtbibliothek-rottenburg
 .de/index.php?option=com_jem&view=event&id=73:lesehasen-treff-lieselotte-m
 acht-urlaub\n
DTSTART:20190703T080000Z
DTEND:20190703T080000Z
LOCATION:Café Stadtgespräch\,Königstraße 2\,72108 Rottenburg
SUMMARY:Lesehasen-Treff: Lieselotte macht Urlaub
URL:https://foerderverein-stadtbibliothek-rottenburg.de/index.php?option=co
 m_jem&view=event&id=73:lesehasen-treff-lieselotte-macht-urlaub
END:VEVENT
BEGIN:VEVENT
UID:event159@Förderverein Stadtbibliothek Rottenburg
DTSTAMP:20260422T080711Z
CATEGORIES:allgemeine Veranstaltung
DESCRIPTION:Digitale Stadtbibliothek - Offene Sprechstunde\nKategorie: allg
 emeine Veranstaltung\nICS-Link: https://foerderverein-stadtbibliothek-rott
 enburg.de/index.php?option=com_jem&view=event&id=159:digitale-stadtbibliot
 hek-offene-sprechstunde-fuer-ihre-fragen-zu-onleihe-streaming-zeitungen-un
 d-digitale-angebote\n
DTSTART:20190813T140000Z
DTEND:20190813T160000Z
LOCATION:Café Stadtgespräch\,Königstraße 2\,72108 Rottenburg
SUMMARY:Digitale Stadtbibliothek - Offene Sprechstunde
URL:https://foerderverein-stadtbibliothek-rottenburg.de/index.php?option=co
 m_jem&view=event&id=159:digitale-stadtbibliothek-offene-sprechstunde-fuer-
 ihre-fragen-zu-onleihe-streaming-zeitungen-und-digitale-angebote
END:VEVENT
BEGIN:VEVENT
UID:event160@Förderverein Stadtbibliothek Rottenburg
DTSTAMP:20260422T080711Z
CATEGORIES:allgemeine Veranstaltung
DESCRIPTION:Digitale Stadtbibliothek - Offene Sprechstunde\nKategorie: allg
 emeine Veranstaltung\nICS-Link: https://foerderverein-stadtbibliothek-rott
 enburg.de/index.php?option=com_jem&view=event&id=160:digitale-stadtbibliot
 hek-offene-sprechstunde-fuer-ihre-fragen-zu-onleihe-streaming-zeitungen-un
 d-digitale-angebote\n
DTSTART:20190820T140000Z
DTEND:20190820T160000Z
LOCATION:Café Stadtgespräch\,Königstraße 2\,72108 Rottenburg
SUMMARY:Digitale Stadtbibliothek - Offene Sprechstunde
URL:https://foerderverein-stadtbibliothek-rottenburg.de/index.php?option=co
 m_jem&view=event&id=160:digitale-stadtbibliothek-offene-sprechstunde-fuer-
 ihre-fragen-zu-onleihe-streaming-zeitungen-und-digitale-angebote
END:VEVENT
BEGIN:VEVENT
UID:event161@Förderverein Stadtbibliothek Rottenburg
DTSTAMP:20260422T080711Z
CATEGORIES:allgemeine Veranstaltung
DESCRIPTION:Digitale Stadtbibliothek - Offene Sprechstunde\nKategorie: allg
 emeine Veranstaltung\nICS-Link: https://foerderverein-stadtbibliothek-rott
 enburg.de/index.php?option=com_jem&view=event&id=161:digitale-stadtbibliot
 hek-offene-sprechstunde-fuer-ihre-fragen-zu-onleihe-streaming-zeitungen-un
 d-digitale-angebote\n
DTSTART:20190827T140000Z
DTEND:20190827T160000Z
LOCATION:Café Stadtgespräch\,Königstraße 2\,72108 Rottenburg
SUMMARY:Digitale Stadtbibliothek - Offene Sprechstunde
URL:https://foerderverein-stadtbibliothek-rottenburg.de/index.php?option=co
 m_jem&view=event&id=161:digitale-stadtbibliothek-offene-sprechstunde-fuer-
 ihre-fragen-zu-onleihe-streaming-zeitungen-und-digitale-angebote
END:VEVENT
BEGIN:VEVENT
UID:event162@Förderverein Stadtbibliothek Rottenburg
DTSTAMP:20260422T080711Z
CATEGORIES:allgemeine Veranstaltung
DESCRIPTION:Digitale Stadtbibliothek - Offene Sprechstunde\nKategorie: allg
 emeine Veranstaltung\nICS-Link: https://foerderverein-stadtbibliothek-rott
 enburg.de/index.php?option=com_jem&view=event&id=162:digitale-stadtbibliot
 hek-offene-sprechstunde-fuer-ihre-fragen-zu-onleihe-streaming-zeitungen-un
 d-digitale-angebote\n
DTSTART:20190903T140000Z
DTEND:20190903T160000Z
LOCATION:Café Stadtgespräch\,Königstraße 2\,72108 Rottenburg
SUMMARY:Digitale Stadtbibliothek - Offene Sprechstunde
URL:https://foerderverein-stadtbibliothek-rottenburg.de/index.php?option=co
 m_jem&view=event&id=162:digitale-stadtbibliothek-offene-sprechstunde-fuer-
 ihre-fragen-zu-onleihe-streaming-zeitungen-und-digitale-angebote
END:VEVENT
BEGIN:VEVENT
UID:event163@Förderverein Stadtbibliothek Rottenburg
DTSTAMP:20260422T080711Z
CATEGORIES:allgemeine Veranstaltung
DESCRIPTION:Digitale Stadtbibliothek - Offene Sprechstunde\nKategorie: allg
 emeine Veranstaltung\nICS-Link: https://foerderverein-stadtbibliothek-rott
 enburg.de/index.php?option=com_jem&view=event&id=163:digitale-stadtbibliot
 hek-offene-sprechstunde-fuer-ihre-fragen-zu-onleihe-streaming-zeitungen-un
 d-digitale-angebote\n
DTSTART:20190910T140000Z
DTEND:20190910T160000Z
LOCATION:Café Stadtgespräch\,Königstraße 2\,72108 Rottenburg
SUMMARY:Digitale Stadtbibliothek - Offene Sprechstunde
URL:https://foerderverein-stadtbibliothek-rottenburg.de/index.php?option=co
 m_jem&view=event&id=163:digitale-stadtbibliothek-offene-sprechstunde-fuer-
 ihre-fragen-zu-onleihe-streaming-zeitungen-und-digitale-angebote
END:VEVENT
BEGIN:VEVENT
UID:event79@Förderverein Stadtbibliothek Rottenburg
DTSTAMP:20260422T080711Z
CATEGORIES:allgemeine Veranstaltung
DESCRIPTION:Vortrag: Einfach Frau sein - genussvoll leben ohne Schmerz\nKat
 egorie: allgemeine Veranstaltung\nICS-Link: https://foerderverein-stadtbib
 liothek-rottenburg.de/index.php?option=com_jem&view=event&id=79\n
DTSTART:20190919T190000Z
DTEND:20190919T190000Z
LOCATION:Café Stadtgespräch\,Königstraße 2\,72108 Rottenburg
SUMMARY:Vortrag: Einfach Frau sein - genussvoll leben ohne Schmerz
URL:https://foerderverein-stadtbibliothek-rottenburg.de/index.php?option=co
 m_jem&view=event&id=79
END:VEVENT
END:VCALENDAR
